Package: deltaCaptureC Version: 1.16.1 Command: /home/biocbuild/bbs-3.18-bioc/R/bin/R CMD build --keep-empty-dirs --no-resave-data deltaCaptureC StartedAt: 2024-04-15 16:46:26 -0400 (Mon, 15 Apr 2024) EndedAt: 2024-04-15 16:48:23 -0400 (Mon, 15 Apr 2024) EllapsedTime: 117.2 seconds RetCode: 0 Status: OK PackageFile: deltaCaptureC_1.16.1.tar.gz PackageFileSize: 346.3 KiB