Package: deltaCaptureC Version: 1.16.1 Command: /Library/Frameworks/R.framework/Resources/bin/R CMD INSTALL deltaCaptureC StartedAt: 2024-04-15 15:29:09 -0400 (Mon, 15 Apr 2024) EndedAt: 2024-04-15 15:30:17 -0400 (Mon, 15 Apr 2024) EllapsedTime: 68.5 seconds RetCode: 0 Status: OK