Package: deltaCaptureC Version: 1.16.1 Command: rm -rf deltaCaptureC.buildbin-libdir && mkdir deltaCaptureC.buildbin-libdir && /Users/biocbuild/BBS/utils/build-universal.sh deltaCaptureC_1.16.1.tar.gz /Library/Frameworks/R.framework/Resources/bin/R deltaCaptureC.buildbin-libdir StartedAt: 2024-04-16 11:28:33 -0400 (Tue, 16 Apr 2024) EndedAt: 2024-04-16 11:30:23 -0400 (Tue, 16 Apr 2024) EllapsedTime: 110.2 seconds RetCode: 0 Status: OK PackageFile: deltaCaptureC_1.16.1.tgz PackageFileSize: 648.3 KiB