Package: deltaCaptureC Version: 1.16.0 Command: /Library/Frameworks/R.framework/Resources/bin/R CMD INSTALL deltaCaptureC StartedAt: 2024-03-03 15:13:46 -0500 (Sun, 03 Mar 2024) EndedAt: 2024-03-03 15:14:30 -0500 (Sun, 03 Mar 2024) EllapsedTime: 44.1 seconds RetCode: 0 Status: OK