Package: deltaCaptureC Version: 1.16.0 Command: /Library/Frameworks/R.framework/Resources/bin/R CMD check --install=check:deltaCaptureC.install-out.txt --library=/Library/Frameworks/R.framework/Resources/library --no-vignettes --timings deltaCaptureC_1.16.0.tar.gz StartedAt: 2024-02-21 19:52:06 -0500 (Wed, 21 Feb 2024) EndedAt: 2024-02-21 19:57:14 -0500 (Wed, 21 Feb 2024) EllapsedTime: 308.4 seconds RetCode: 0 Status: OK CheckDir: deltaCaptureC.Rcheck Warnings: 0