Package: deltaCaptureC Version: 1.16.0 Command: rm -rf deltaCaptureC.buildbin-libdir && mkdir deltaCaptureC.buildbin-libdir && /Users/biocbuild/BBS/utils/build-universal.sh deltaCaptureC_1.16.0.tar.gz /Library/Frameworks/R.framework/Resources/bin/R deltaCaptureC.buildbin-libdir StartedAt: 2024-02-22 00:13:56 -0500 (Thu, 22 Feb 2024) EndedAt: 2024-02-22 00:14:43 -0500 (Thu, 22 Feb 2024) EllapsedTime: 46.7 seconds RetCode: 0 Status: OK PackageFile: deltaCaptureC_1.16.0.tgz PackageFileSize: 496.1 KiB