Package: deepSNV Version: 1.48.0 Command: /Library/Frameworks/R.framework/Resources/bin/R CMD INSTALL deepSNV StartedAt: 2024-04-15 15:48:55 -0400 (Mon, 15 Apr 2024) EndedAt: 2024-04-15 15:50:37 -0400 (Mon, 15 Apr 2024) EllapsedTime: 101.6 seconds RetCode: 0 Status: OK