Package: deepSNV Version: 1.48.0 Command: /Library/Frameworks/R.framework/Resources/bin/R CMD check --install=check:deepSNV.install-out.txt --library=/Library/Frameworks/R.framework/Resources/library --no-vignettes --timings deepSNV_1.48.0.tar.gz StartedAt: 2024-03-03 20:04:46 -0500 (Sun, 03 Mar 2024) EndedAt: 2024-03-03 20:11:25 -0500 (Sun, 03 Mar 2024) EllapsedTime: 398.8 seconds RetCode: 0 Status: WARNINGS CheckDir: deepSNV.Rcheck Warnings: 1