Package: deepSNV Version: 1.48.0 Command: rm -rf deepSNV.buildbin-libdir && mkdir deepSNV.buildbin-libdir && /Users/biocbuild/BBS/utils/build-universal.sh deepSNV_1.48.0.tar.gz /Library/Frameworks/R.framework/Resources/bin/R deepSNV.buildbin-libdir StartedAt: 2024-03-04 00:37:21 -0500 (Mon, 04 Mar 2024) EndedAt: 2024-03-04 00:38:31 -0500 (Mon, 04 Mar 2024) EllapsedTime: 70.3 seconds RetCode: 0 Status: OK PackageFile: deepSNV_1.48.0.tgz PackageFileSize: 3.265 MiB