Package: decoupleR Version: 2.8.2 Command: rm -rf decoupleR.buildbin-libdir && mkdir decoupleR.buildbin-libdir && F:\biocbuild\bbs-3.18-bioc\R\bin\R.exe CMD INSTALL --build --library=decoupleR.buildbin-libdir decoupleR_2.8.2.tar.gz StartedAt: 2024-04-16 06:53:54 -0400 (Tue, 16 Apr 2024) EndedAt: 2024-04-16 06:54:02 -0400 (Tue, 16 Apr 2024) EllapsedTime: 8.8 seconds RetCode: 1 Status: ERROR PackageFile: None PackageFileSize: NA