Package: decoupleR Version: 2.8.2 Command: /Library/Frameworks/R.framework/Resources/bin/R CMD INSTALL decoupleR StartedAt: 2024-04-15 15:10:19 -0400 (Mon, 15 Apr 2024) EndedAt: 2024-04-15 15:10:37 -0400 (Mon, 15 Apr 2024) EllapsedTime: 17.4 seconds RetCode: 0 Status: OK