Package: decoupleR Version: 2.8.2 Command: /Library/Frameworks/R.framework/Resources/bin/R CMD build --keep-empty-dirs --no-resave-data decoupleR StartedAt: 2024-04-15 18:06:24 -0400 (Mon, 15 Apr 2024) EndedAt: 2024-04-15 18:18:07 -0400 (Mon, 15 Apr 2024) EllapsedTime: 702.7 seconds RetCode: 0 Status: OK PackageFile: decoupleR_2.8.2.tar.gz PackageFileSize: 1.892 MiB