Package: decoupleR Version: 2.8.2 Command: rm -rf decoupleR.buildbin-libdir && mkdir decoupleR.buildbin-libdir && /Users/biocbuild/BBS/utils/build-universal.sh decoupleR_2.8.2.tar.gz /Library/Frameworks/R.framework/Resources/bin/R decoupleR.buildbin-libdir StartedAt: 2024-04-16 11:27:10 -0400 (Tue, 16 Apr 2024) EndedAt: 2024-04-16 11:27:25 -0400 (Tue, 16 Apr 2024) EllapsedTime: 14.5 seconds RetCode: 1 Status: ERROR PackageFile: None PackageFileSize: NA