Package: decoupleR Version: 2.8.0 Command: /home/biocbuild/R/R-4.3.1/bin/R CMD INSTALL decoupleR StartedAt: 2023-11-01 20:09:05 -0000 (Wed, 01 Nov 2023) EndedAt: 2023-11-01 20:09:25 -0000 (Wed, 01 Nov 2023) EllapsedTime: 19.4 seconds RetCode: 0 Status: OK