Package: deconvR Version: 1.8.0 Command: F:\biocbuild\bbs-3.18-bioc\R\bin\R.exe CMD INSTALL deconvR StartedAt: 2024-04-15 16:39:55 -0400 (Mon, 15 Apr 2024) EndedAt: 2024-04-15 16:40:59 -0400 (Mon, 15 Apr 2024) EllapsedTime: 63.9 seconds RetCode: 0 Status: OK