Package: deconvR Version: 1.8.0 Command: rm -rf deconvR.buildbin-libdir && mkdir deconvR.buildbin-libdir && F:\biocbuild\bbs-3.18-bioc\R\bin\R.exe CMD INSTALL --build --library=deconvR.buildbin-libdir deconvR_1.8.0.tar.gz StartedAt: 2024-04-16 06:53:52 -0400 (Tue, 16 Apr 2024) EndedAt: 2024-04-16 06:55:01 -0400 (Tue, 16 Apr 2024) EllapsedTime: 69.3 seconds RetCode: 0 Status: OK PackageFile: deconvR_1.8.0.zip PackageFileSize: 3.816 MiB