Package: deconvR Version: 1.8.0 Command: /Library/Frameworks/R.framework/Resources/bin/R CMD build --keep-empty-dirs --no-resave-data deconvR StartedAt: 2024-04-15 18:06:09 -0400 (Mon, 15 Apr 2024) EndedAt: 2024-04-15 18:11:34 -0400 (Mon, 15 Apr 2024) EllapsedTime: 324.9 seconds RetCode: 0 Status: OK PackageFile: deconvR_1.8.0.tar.gz PackageFileSize: 3.789 MiB