Package: deconvR Version: 1.8.0 Command: /Library/Frameworks/R.framework/Resources/bin/R CMD INSTALL deconvR StartedAt: 2024-03-03 15:41:55 -0500 (Sun, 03 Mar 2024) EndedAt: 2024-03-03 15:43:06 -0500 (Sun, 03 Mar 2024) EllapsedTime: 71.4 seconds RetCode: 0 Status: OK