Package: decontam Version: 1.22.0 Maintainer: Benjamin Callahan MaintainerEmail: benjamin.j.callahan at gmail.com git_url: https://git.bioconductor.org/packages/decontam git_branch: RELEASE_3_18 git_last_commit: 239188d git_last_commit_date: 2023-10-24 11:04:24 -0400 (Tue, 24 Oct 2023)