Package: debrowser Version: 1.30.2 Command: F:\biocbuild\bbs-3.18-bioc\R\bin\R.exe CMD INSTALL debrowser StartedAt: 2024-04-15 16:34:02 -0400 (Mon, 15 Apr 2024) EndedAt: 2024-04-15 16:35:12 -0400 (Mon, 15 Apr 2024) EllapsedTime: 70.7 seconds RetCode: 0 Status: OK