Package: debrowser Version: 1.30.2 Command: chmod a+r debrowser -R && F:\biocbuild\bbs-3.18-bioc\R\bin\R.exe CMD build --keep-empty-dirs --no-resave-data debrowser StartedAt: 2024-04-15 17:54:21 -0400 (Mon, 15 Apr 2024) EndedAt: 2024-04-15 17:56:02 -0400 (Mon, 15 Apr 2024) EllapsedTime: 101.0 seconds RetCode: 0 Status: OK PackageFile: debrowser_1.30.2.tar.gz PackageFileSize: 18.22 MiB