Package: debrowser Version: 1.30.2 Command: /Library/Frameworks/R.framework/Resources/bin/R CMD INSTALL debrowser StartedAt: 2024-04-15 16:23:00 -0400 (Mon, 15 Apr 2024) EndedAt: 2024-04-15 16:24:36 -0400 (Mon, 15 Apr 2024) EllapsedTime: 96.9 seconds RetCode: 0 Status: OK