Package: debrowser Version: 1.30.2 Command: /Library/Frameworks/R.framework/Resources/bin/R CMD check --install=check:debrowser.install-out.txt --library=/Library/Frameworks/R.framework/Resources/library --no-vignettes --timings debrowser_1.30.2.tar.gz StartedAt: 2024-04-16 01:39:39 -0400 (Tue, 16 Apr 2024) EndedAt: 2024-04-16 01:53:01 -0400 (Tue, 16 Apr 2024) EllapsedTime: 802.0 seconds RetCode: 0 Status: OK CheckDir: debrowser.Rcheck Warnings: 0