Package: debrowser Version: 1.30.2 Command: /Library/Frameworks/R.framework/Resources/bin/R CMD build --keep-empty-dirs --no-resave-data debrowser StartedAt: 2024-04-15 18:05:18 -0400 (Mon, 15 Apr 2024) EndedAt: 2024-04-15 18:08:27 -0400 (Mon, 15 Apr 2024) EllapsedTime: 188.5 seconds RetCode: 0 Status: OK PackageFile: debrowser_1.30.2.tar.gz PackageFileSize: 18.22 MiB