Package: debrowser Version: 1.30.2 Command: rm -rf debrowser.buildbin-libdir && mkdir debrowser.buildbin-libdir && /Users/biocbuild/BBS/utils/build-universal.sh debrowser_1.30.2.tar.gz /Library/Frameworks/R.framework/Resources/bin/R debrowser.buildbin-libdir StartedAt: 2024-04-16 11:26:41 -0400 (Tue, 16 Apr 2024) EndedAt: 2024-04-16 11:29:24 -0400 (Tue, 16 Apr 2024) EllapsedTime: 162.8 seconds RetCode: 0 Status: OK PackageFile: debrowser_1.30.2.tgz PackageFileSize: 18.63 MiB