Package: debrowser Version: 1.30.2 Command: /Library/Frameworks/R.framework/Resources/bin/R CMD check --install=check:debrowser.install-out.txt --library=/Library/Frameworks/R.framework/Resources/library --no-vignettes --timings debrowser_1.30.2.tar.gz StartedAt: 2024-03-03 20:03:18 -0500 (Sun, 03 Mar 2024) EndedAt: 2024-03-03 20:11:03 -0500 (Sun, 03 Mar 2024) EllapsedTime: 464.6 seconds RetCode: 0 Status: OK CheckDir: debrowser.Rcheck Warnings: 0