Package: debCAM Version: 1.20.0 Command: chmod a+r debCAM -R && F:\biocbuild\bbs-3.18-bioc\R\bin\R.exe CMD build --keep-empty-dirs --no-resave-data debCAM StartedAt: 2024-04-15 17:54:16 -0400 (Mon, 15 Apr 2024) EndedAt: 2024-04-15 18:01:13 -0400 (Mon, 15 Apr 2024) EllapsedTime: 417.2 seconds RetCode: 0 Status: OK PackageFile: debCAM_1.20.0.tar.gz PackageFileSize: 3.398 MiB