Package: debCAM Version: 1.20.0 Command: /home/biocbuild/bbs-3.18-bioc/R/bin/R CMD build --keep-empty-dirs --no-resave-data debCAM StartedAt: 2024-04-15 16:43:42 -0400 (Mon, 15 Apr 2024) EndedAt: 2024-04-15 16:49:28 -0400 (Mon, 15 Apr 2024) EllapsedTime: 346.7 seconds RetCode: 0 Status: OK PackageFile: debCAM_1.20.0.tar.gz PackageFileSize: 3.682 MiB