Package: debCAM Version: 1.20.0 Command: /Library/Frameworks/R.framework/Resources/bin/R CMD build --keep-empty-dirs --no-resave-data debCAM StartedAt: 2024-04-15 18:05:17 -0400 (Mon, 15 Apr 2024) EndedAt: 2024-04-15 18:18:06 -0400 (Mon, 15 Apr 2024) EllapsedTime: 768.4 seconds RetCode: 0 Status: OK PackageFile: debCAM_1.20.0.tar.gz PackageFileSize: 3.73 MiB