Package: debCAM Version: 1.20.0 Command: /home/biocbuild/R/R-4.3.1/bin/R CMD INSTALL debCAM StartedAt: 2023-11-01 20:42:55 -0000 (Wed, 01 Nov 2023) EndedAt: 2023-11-01 20:43:08 -0000 (Wed, 01 Nov 2023) EllapsedTime: 13.2 seconds RetCode: 0 Status: OK