Package: debCAM Version: 1.20.0 Command: /home/biocbuild/R/R-4.3.1/bin/R CMD build --keep-empty-dirs --no-resave-data debCAM StartedAt: 2023-11-02 00:00:54 -0000 (Thu, 02 Nov 2023) EndedAt: 2023-11-02 00:08:51 -0000 (Thu, 02 Nov 2023) EllapsedTime: 477.6 seconds RetCode: 0 Status: OK PackageFile: debCAM_1.20.0.tar.gz PackageFileSize: 3.715 MiB