Package: dearseq Version: 1.14.0 Command: F:\biocbuild\bbs-3.18-bioc\R\bin\R.exe CMD check --no-multiarch --install=check:dearseq.install-out.txt --library=F:\biocbuild\bbs-3.18-bioc\R\library --no-vignettes --timings dearseq_1.14.0.tar.gz StartedAt: 2024-04-15 23:56:08 -0400 (Mon, 15 Apr 2024) EndedAt: 2024-04-15 23:57:37 -0400 (Mon, 15 Apr 2024) EllapsedTime: 89.2 seconds RetCode: 0 Status: OK CheckDir: dearseq.Rcheck Warnings: 0