Package: dearseq Version: 1.14.0 Command: chmod a+r dearseq -R && F:\biocbuild\bbs-3.18-bioc\R\bin\R.exe CMD build --keep-empty-dirs --no-resave-data dearseq StartedAt: 2024-04-15 17:54:11 -0400 (Mon, 15 Apr 2024) EndedAt: 2024-04-15 18:03:01 -0400 (Mon, 15 Apr 2024) EllapsedTime: 530.0 seconds RetCode: 0 Status: OK PackageFile: dearseq_1.14.0.tar.gz PackageFileSize: 507.4 KiB