Package: dearseq Version: 1.14.0 Command: /home/biocbuild/bbs-3.18-bioc/R/bin/R CMD check --install=check:dearseq.install-out.txt --library=/home/biocbuild/bbs-3.18-bioc/R/site-library --timings dearseq_1.14.0.tar.gz StartedAt: 2024-04-15 21:52:18 -0400 (Mon, 15 Apr 2024) EndedAt: 2024-04-15 22:03:33 -0400 (Mon, 15 Apr 2024) EllapsedTime: 674.8 seconds RetCode: 0 Status: OK CheckDir: dearseq.Rcheck Warnings: 0