Package: ddCt Version: 1.58.0 Command: chmod a+r ddCt -R && F:\biocbuild\bbs-3.18-bioc\R\bin\R.exe CMD build --keep-empty-dirs --no-resave-data ddCt StartedAt: 2024-04-15 17:54:07 -0400 (Mon, 15 Apr 2024) EndedAt: 2024-04-15 17:54:37 -0400 (Mon, 15 Apr 2024) EllapsedTime: 30.1 seconds RetCode: 0 Status: OK PackageFile: ddCt_1.58.0.tar.gz PackageFileSize: 785.4 KiB