Package: ddCt Version: 1.58.0 Command: /home/biocbuild/R/R-4.3.1/bin/R CMD INSTALL ddCt StartedAt: 2023-11-01 20:09:29 -0000 (Wed, 01 Nov 2023) EndedAt: 2023-11-01 20:09:54 -0000 (Wed, 01 Nov 2023) EllapsedTime: 24.9 seconds RetCode: 0 Status: OK