Package: dce Version: 1.10.0 Command: rm -rf dce.buildbin-libdir && mkdir dce.buildbin-libdir && F:\biocbuild\bbs-3.18-bioc\R\bin\R.exe CMD INSTALL --build --library=dce.buildbin-libdir dce_1.10.0.tar.gz StartedAt: 2024-04-16 06:53:26 -0400 (Tue, 16 Apr 2024) EndedAt: 2024-04-16 06:54:12 -0400 (Tue, 16 Apr 2024) EllapsedTime: 45.9 seconds RetCode: 0 Status: OK PackageFile: dce_1.10.0.zip PackageFileSize: 2.224 MiB