Package: dce Version: 1.10.0 Command: /home/biocbuild/bbs-3.18-bioc/R/bin/R CMD INSTALL dce StartedAt: 2024-04-15 15:45:24 -0400 (Mon, 15 Apr 2024) EndedAt: 2024-04-15 15:45:57 -0400 (Mon, 15 Apr 2024) EllapsedTime: 32.9 seconds RetCode: 0 Status: OK