Package: dcGSA Version: 1.30.0 Command: /home/biocbuild/bbs-3.18-bioc/R/bin/R CMD INSTALL dcGSA StartedAt: 2024-04-15 15:16:10 -0400 (Mon, 15 Apr 2024) EndedAt: 2024-04-15 15:16:15 -0400 (Mon, 15 Apr 2024) EllapsedTime: 4.8 seconds RetCode: 0 Status: OK