Package: dcGSA Version: 1.30.0 Command: /home/biocbuild/bbs-3.18-bioc/R/bin/R CMD check --install=check:dcGSA.install-out.txt --library=/home/biocbuild/bbs-3.18-bioc/R/site-library --timings dcGSA_1.30.0.tar.gz StartedAt: 2024-04-15 21:51:41 -0400 (Mon, 15 Apr 2024) EndedAt: 2024-04-15 21:52:18 -0400 (Mon, 15 Apr 2024) EllapsedTime: 36.7 seconds RetCode: 0 Status: WARNINGS CheckDir: dcGSA.Rcheck Warnings: 1