Package: dcGSA Version: 1.30.0 Command: /Library/Frameworks/R.framework/Resources/bin/R CMD check --install=check:dcGSA.install-out.txt --library=/Library/Frameworks/R.framework/Resources/library --no-vignettes --timings dcGSA_1.30.0.tar.gz StartedAt: 2024-03-03 20:02:20 -0500 (Sun, 03 Mar 2024) EndedAt: 2024-03-03 20:03:13 -0500 (Sun, 03 Mar 2024) EllapsedTime: 53.0 seconds RetCode: 0 Status: WARNINGS CheckDir: dcGSA.Rcheck Warnings: 1