Package: dasper Version: 1.9.1 Command: /home/biocbuild/bbs-3.18-bioc/R/bin/R CMD build --keep-empty-dirs --no-resave-data dasper StartedAt: 2023-04-20 04:32:42 -0400 (Thu, 20 Apr 2023) EndedAt: 2023-04-20 04:34:46 -0400 (Thu, 20 Apr 2023) EllapsedTime: 123.8 seconds RetCode: 1 Status: ERROR PackageFile: None PackageFileSize: NA