Package: dagLogo Version: 1.40.0 Command: /Library/Frameworks/R.framework/Resources/bin/R CMD check --install=check:dagLogo.install-out.txt --library=/Library/Frameworks/R.framework/Resources/library --no-vignettes --timings dagLogo_1.40.0.tar.gz StartedAt: 2024-04-16 01:34:25 -0400 (Tue, 16 Apr 2024) EndedAt: 2024-04-16 01:46:33 -0400 (Tue, 16 Apr 2024) EllapsedTime: 727.7 seconds RetCode: 0 Status: OK CheckDir: dagLogo.Rcheck Warnings: 0