Package: dada2 Version: 1.30.0 Command: /home/biocbuild/R/R-4.3.1/bin/R CMD build --keep-empty-dirs --no-resave-data dada2 StartedAt: 2023-11-01 23:58:04 -0000 (Wed, 01 Nov 2023) EndedAt: 2023-11-02 00:01:17 -0000 (Thu, 02 Nov 2023) EllapsedTime: 192.3 seconds RetCode: 0 Status: OK PackageFile: dada2_1.30.0.tar.gz PackageFileSize: 2.764 MiB