Package: dStruct Version: 1.8.0 Command: /Library/Frameworks/R.framework/Resources/bin/R CMD build --keep-empty-dirs --no-resave-data dStruct StartedAt: 2024-03-03 16:36:01 -0500 (Sun, 03 Mar 2024) EndedAt: 2024-03-03 16:36:22 -0500 (Sun, 03 Mar 2024) EllapsedTime: 21.4 seconds RetCode: 0 Status: OK PackageFile: dStruct_1.8.0.tar.gz PackageFileSize: 557.3 KiB