Package: cytoviewer Version: 1.2.0 Command: chmod a+r cytoviewer -R && F:\biocbuild\bbs-3.18-bioc\R\bin\R.exe CMD build --keep-empty-dirs --no-resave-data cytoviewer StartedAt: 2024-04-15 17:52:40 -0400 (Mon, 15 Apr 2024) EndedAt: 2024-04-15 17:53:56 -0400 (Mon, 15 Apr 2024) EllapsedTime: 76.6 seconds RetCode: 0 Status: OK PackageFile: cytoviewer_1.2.0.tar.gz PackageFileSize: 9.259 MiB