Package: cytoviewer Version: 1.2.0 Command: rm -rf cytoviewer.buildbin-libdir && mkdir cytoviewer.buildbin-libdir && F:\biocbuild\bbs-3.18-bioc\R\bin\R.exe CMD INSTALL --build --library=cytoviewer.buildbin-libdir cytoviewer_1.2.0.tar.gz StartedAt: 2024-04-16 06:53:09 -0400 (Tue, 16 Apr 2024) EndedAt: 2024-04-16 06:54:10 -0400 (Tue, 16 Apr 2024) EllapsedTime: 61.4 seconds RetCode: 0 Status: OK PackageFile: cytoviewer_1.2.0.zip PackageFileSize: 4.872 MiB