Package: cytoviewer Version: 1.2.0 Command: /Library/Frameworks/R.framework/Resources/bin/R CMD INSTALL cytoviewer StartedAt: 2024-04-15 16:08:55 -0400 (Mon, 15 Apr 2024) EndedAt: 2024-04-15 16:10:32 -0400 (Mon, 15 Apr 2024) EllapsedTime: 97.1 seconds RetCode: 0 Status: OK