Package: cytomapper Version: 1.14.0 Command: /Library/Frameworks/R.framework/Resources/bin/R CMD INSTALL cytomapper StartedAt: 2024-04-15 16:05:05 -0400 (Mon, 15 Apr 2024) EndedAt: 2024-04-15 16:07:08 -0400 (Mon, 15 Apr 2024) EllapsedTime: 123.0 seconds RetCode: 0 Status: OK