Package: cytomapper Version: 1.14.0 Command: rm -rf cytomapper.buildbin-libdir && mkdir cytomapper.buildbin-libdir && /Users/biocbuild/BBS/utils/build-universal.sh cytomapper_1.14.0.tar.gz /Library/Frameworks/R.framework/Resources/bin/R cytomapper.buildbin-libdir StartedAt: 2024-04-16 11:25:26 -0400 (Tue, 16 Apr 2024) EndedAt: 2024-04-16 11:28:45 -0400 (Tue, 16 Apr 2024) EllapsedTime: 199.7 seconds RetCode: 0 Status: OK PackageFile: cytomapper_1.14.0.tgz PackageFileSize: 5.433 MiB